BEGIN:VCALENDAR
VERSION:2.0
PRODID:-//Huntsville Area Association of Realtors - ECPv6.15.20//NONSGML v1.0//EN
CALSCALE:GREGORIAN
METHOD:PUBLISH
X-WR-CALNAME:Huntsville Area Association of Realtors
X-ORIGINAL-URL:https://haar.realtor
X-WR-CALDESC:Events for Huntsville Area Association of Realtors
REFRESH-INTERVAL;VALUE=DURATION:PT1H
X-Robots-Tag:noindex
X-PUBLISHED-TTL:PT1H
BEGIN:VTIMEZONE
TZID:America/Chicago
BEGIN:DAYLIGHT
TZOFFSETFROM:-0600
TZOFFSETTO:-0500
TZNAME:CDT
DTSTART:20250309T080000
END:DAYLIGHT
BEGIN:STANDARD
TZOFFSETFROM:-0500
TZOFFSETTO:-0600
TZNAME:CST
DTSTART:20251102T070000
END:STANDARD
BEGIN:DAYLIGHT
TZOFFSETFROM:-0600
TZOFFSETTO:-0500
TZNAME:CDT
DTSTART:20260308T080000
END:DAYLIGHT
BEGIN:STANDARD
TZOFFSETFROM:-0500
TZOFFSETTO:-0600
TZNAME:CST
DTSTART:20261101T070000
END:STANDARD
BEGIN:DAYLIGHT
TZOFFSETFROM:-0600
TZOFFSETTO:-0500
TZNAME:CDT
DTSTART:20270314T080000
END:DAYLIGHT
BEGIN:STANDARD
TZOFFSETFROM:-0500
TZOFFSETTO:-0600
TZNAME:CST
DTSTART:20271107T070000
END:STANDARD
END:VTIMEZONE
BEGIN:VEVENT
DTSTART;TZID=America/Chicago:20260423T110000
DTEND;TZID=America/Chicago:20260423T130000
DTSTAMP:20260423T035137
CREATED:20260401T204451Z
LAST-MODIFIED:20260406T180335Z
UID:10000605-1776942000-1776949200@haar.realtor
SUMMARY:Lunch & Learn: Housing Market Trends & Economic Outlook with Wells Fargo
DESCRIPTION:Lunch & Learn: Housing Market Trends & Economic Outlook with Wells Fargo\nJoin Wells Fargo for an informative Lunch & Learn as we take a closer look at the latest forces shaping today’s housing market. During this session\, we’ll explore how Alabama’s real estate trends compare to national market activity\, review current interest rates and Q1 market results\, and discuss the buyer affordability outlook moving forward. We’ll also cover key economic indicators including job growth\, inflation\, and consumer confidence\, along with insights into investor activity and rental market trends. Finally\, we’ll take a look at what factors could shift the market next and what that may mean for real estate professionals and their clients. Don’t miss this opportunity to gain valuable market insight while enjoying lunch with Wells Fargo. \nPresenter: Charles Dougherty\, Director & Chief Economist  \nDate: Thursday\, April 23rd 11:00 am – 1:00 pm  \nLocation: In Person- HAAR Office- 535 Monroe St. Huntsville\, AL 35801 \nFREE to attend and Lunch Provided! \nPresented by: Wells Fargo Home Mortgage  \n \nIf you have any questions\, please contact Ashley Murata at ashley@valleymls.com \nTO REGISTER:\nHAAR & ValleyMLS Members Click HERE to Register\nLog in to your dashboard and go to the “Register Class” button 
URL:https://haar.realtor/event/wells-fargo/
LOCATION:HAAR\, 535 Monroe\, Huntsville\, AL\, 35801\, United States
CATEGORIES:Education
ATTACH;FMTTYPE=image/png:https://haar.realtor/wp-content/uploads/2026/04/Lunch-and-Learn-Wells--scaled.png
GEO:34.7317120941;-86.5906927287
X-APPLE-STRUCTURED-LOCATION;VALUE=URI;X-ADDRESS=HAAR 535 Monroe Huntsville AL 35801 United States;X-APPLE-RADIUS=500;X-TITLE=535 Monroe:geo:-86.5906927287,34.7317120941
END:VEVENT
BEGIN:VEVENT
DTSTART;TZID=America/Chicago:20260429T090000
DTEND;TZID=America/Chicago:20260429T140000
DTSTAMP:20260423T035137
CREATED:20260320T161724Z
LAST-MODIFIED:20260320T161724Z
UID:10000603-1777453200-1777471200@haar.realtor
SUMMARY:NAR Candidate Training Academy
DESCRIPTION:The Huntsville Area Association of REALTORS® (HAAR) announced today that it will host the National Association of REALTORS® (NAR) Candidate Training Academy on Wednesday\, April 29th. This intensive\, one-day workshop is designed to prepare community members to run for local office and is open to the public. \nAs local government decisions increasingly impact property rights\, housing affordability\, and community development\, HAAR is opening its doors to ensure that any resident considering public service has access to professional-grade campaign strategies. Presenters from the National Association of REALTORS® will travel to Huntsville to lead the session\, which runs from 9:00 AM to 2:00 PM. \nREGISTER HERE
URL:https://haar.realtor/event/nar-candidate-training-academy/
LOCATION:HAAR\, 535 Monroe\, Huntsville\, AL\, 35801\, United States
CATEGORIES:Education
ATTACH;FMTTYPE=image/png:https://haar.realtor/wp-content/uploads/2026/03/Screenshot-2026-03-10-at-15-56-22-NAR-Candidate-Training-Academy-Huntsville-AL-Tickets-Wednesday-Apr-29-from-9-am-to-2-pm-Eventbrite.png
GEO:34.7317120941;-86.5906927287
X-APPLE-STRUCTURED-LOCATION;VALUE=URI;X-ADDRESS=HAAR 535 Monroe Huntsville AL 35801 United States;X-APPLE-RADIUS=500;X-TITLE=535 Monroe:geo:-86.5906927287,34.7317120941
END:VEVENT
BEGIN:VEVENT
DTSTART;TZID=America/Chicago:20260507T113000
DTEND;TZID=America/Chicago:20260507T143000
DTSTAMP:20260423T035137
CREATED:20260417T190425Z
LAST-MODIFIED:20260417T190500Z
UID:10000618-1778153400-1778164200@haar.realtor
SUMMARY:
DESCRIPTION:Register through your member dashboard today at haar.realtor!\nAll members — REALTORS®\, affiliates\, appraisers\, and more — are invited to connect and stay informed. \nWe’re excited to welcome special guest Alison Kling\, CEO of Free 2 Teach\, who will share insights on leading with clarity\, confidence\, and purpose. With over 20 years of leadership experience\, Alison brings a powerful message on connecting who you are to the impact you make. \nDon’t miss this opportunity to learn\, grow\, and engage with your fellow members!
URL:https://haar.realtor/event/membermtg57/
LOCATION:HAAR\, 535 Monroe\, Huntsville\, AL\, 35801\, United States
CATEGORIES:Member Meeting
ATTACH;FMTTYPE=image/png:https://haar.realtor/wp-content/uploads/2026/04/Member-Meeting-5.7.png
GEO:34.7317120941;-86.5906927287
X-APPLE-STRUCTURED-LOCATION;VALUE=URI;X-ADDRESS=HAAR 535 Monroe Huntsville AL 35801 United States;X-APPLE-RADIUS=500;X-TITLE=535 Monroe:geo:-86.5906927287,34.7317120941
END:VEVENT
BEGIN:VEVENT
DTSTART;TZID=America/Chicago:20260611T130000
DTEND;TZID=America/Chicago:20260611T160000
DTSTAMP:20260423T035137
CREATED:20260309T144232Z
LAST-MODIFIED:20260403T233724Z
UID:10000599-1781182800-1781193600@haar.realtor
SUMMARY:Staff & Member Appreciation Cookout
DESCRIPTION:Join us at the Huntsville Area Association of REALTORS® for a relaxed and welcoming afternoon as we celebrate the people who make our Association what it is — our members\, affiliates\, and staff. \nThe Staff & Member Appreciation Cookout is a casual open house designed to bring everyone together outside of the day-to-day business. Stop by\, grab a bite to eat\, enjoy a refreshing drink\, and connect with colleagues and industry partners in a laid-back\, outdoor setting. \nWhether you’re catching up with familiar faces or meeting someone new\, this is your time to step away from the busy pace of real estate and enjoy the community that supports it. \nWe’ll have great food\, a few fun activities\, and plenty of space to relax and reconnect. \nThursday\, June 11\n1:00 PM – 4:00 PM\nHuntsville Area Association of REALTORS® \nWe hope you’ll join us as we show appreciation for the people who keep our Association strong. \nREALTORS should register using the Member Dashboard.
URL:https://haar.realtor/event/a-day-of-healing/
LOCATION:HAAR\, 535 Monroe\, Huntsville\, AL\, 35801\, United States
CATEGORIES:Networking
ATTACH;FMTTYPE=image/png:https://haar.realtor/wp-content/uploads/2026/03/Cookout.png
GEO:34.7317120941;-86.5906927287
X-APPLE-STRUCTURED-LOCATION;VALUE=URI;X-ADDRESS=HAAR 535 Monroe Huntsville AL 35801 United States;X-APPLE-RADIUS=500;X-TITLE=535 Monroe:geo:-86.5906927287,34.7317120941
END:VEVENT
BEGIN:VEVENT
DTSTART;TZID=America/Chicago:20260630T130000
DTEND;TZID=America/Chicago:20260630T150000
DTSTAMP:20260423T035137
CREATED:20260414T201735Z
LAST-MODIFIED:20260414T201748Z
UID:10000615-1782824400-1782831600@haar.realtor
SUMMARY:Paragon On the Go!
DESCRIPTION:Paragon On the Go!\nSelling season is here—get ready to take your business anywhere! Join us for an interactive\, hands-on class where we’ll explore the latest features in Paragon Connect and the Paragon App Suite. Learn simple\, practical ways to stay productive on the go—and have a little fun while you’re at it. Feel free to bring your laptop if you’d like to follow along in real time! \nWhat we’ll cover:\n• Near Me search\n• Easy CMA tools\n• Walk property lines with confidence\n• Import contacts directly from your phone\n• Edit your listings on the go\n• And much more! \nPresenter: Terry Tanner  \nDate: Tuesday\, June 30th\, 1:00 pm – 3:00 pm   \nLocation: In Person- HAAR Office- 535 Monroe St. Huntsville\, AL 35801 \nFREE to attend and Lunch Provided! (no CE credit included) \nPresented by: \n \nIf you have any questions\, please contact Ashley Murata at ashley@valleymls.com \nTO REGISTER:\nHAAR & ValleyMLS Members Click HERE to Register\nLog in to your dashboard and go to the “Register Class” button 
URL:https://haar.realtor/event/paragon-on-the-go/
LOCATION:HAAR\, 535 Monroe\, Huntsville\, AL\, 35801\, United States
CATEGORIES:Education
ATTACH;FMTTYPE=image/png:https://haar.realtor/wp-content/uploads/2026/04/Paragon-Training-6.30.26-scaled.png
GEO:34.7317120941;-86.5906927287
X-APPLE-STRUCTURED-LOCATION;VALUE=URI;X-ADDRESS=HAAR 535 Monroe Huntsville AL 35801 United States;X-APPLE-RADIUS=500;X-TITLE=535 Monroe:geo:-86.5906927287,34.7317120941
END:VEVENT
END:VCALENDAR